Package: CoGAPS Version: 3.27.0 Command: /home/biocbuild/R/R/bin/R CMD build --keep-empty-dirs --no-resave-data CoGAPS StartedAt: 2025-01-28 22:01:07 -0000 (Tue, 28 Jan 2025) EndedAt: 2025-01-28 22:13:09 -0000 (Tue, 28 Jan 2025) EllapsedTime: 722.3 seconds RetCode: 0 Status: OK PackageFile: CoGAPS_3.27.0.tar.gz PackageFileSize: 19.9 MiB