Package: CoGAPS Version: 3.27.0 Command: /Library/Frameworks/R.framework/Resources/bin/R CMD build --keep-empty-dirs --no-resave-data CoGAPS StartedAt: 2025-02-12 16:18:03 -0500 (Wed, 12 Feb 2025) EndedAt: 2025-02-12 16:25:54 -0500 (Wed, 12 Feb 2025) EllapsedTime: 470.6 seconds RetCode: 0 Status: OK PackageFile: CoGAPS_3.27.0.tar.gz PackageFileSize: 19.9 MiB