Package: CoGAPS Version: 3.27.0 Command: /home/biocbuild/bbs-3.21-bioc/R/bin/R CMD check --install=check:CoGAPS.install-out.txt --library=/home/biocbuild/bbs-3.21-bioc/R/site-library --timings CoGAPS_3.27.0.tar.gz StartedAt: 2025-02-09 21:05:40 -0500 (Sun, 09 Feb 2025) EndedAt: 2025-02-09 21:10:23 -0500 (Sun, 09 Feb 2025) EllapsedTime: 282.4 seconds RetCode: 0 Status: OK CheckDir: CoGAPS.Rcheck Warnings: 0