Package: CoGAPS Version: 3.27.0 Command: rm -rf CoGAPS.buildbin-libdir && mkdir CoGAPS.buildbin-libdir && E:\biocbuild\bbs-3.21-bioc\R\bin\R.exe CMD INSTALL --build --library=CoGAPS.buildbin-libdir CoGAPS_3.27.0.tar.gz StartedAt: 2025-02-10 07:30:06 -0500 (Mon, 10 Feb 2025) EndedAt: 2025-02-10 07:33:02 -0500 (Mon, 10 Feb 2025) EllapsedTime: 175.7 seconds RetCode: 0 Status: OK PackageFile: CoGAPS_3.27.0.zip PackageFileSize: 20.59 MiB