############################################################################## ############################################################################## ### ### Running command: ### ### /Library/Frameworks/R.framework/Resources/bin/R CMD check --install=check:CoSIA.install-out.txt --library=/Library/Frameworks/R.framework/Resources/library --no-vignettes --timings CoSIA_1.7.0.tar.gz ### ############################################################################## ############################################################################## * using log directory ‘/Users/biocbuild/bbs-3.21-bioc/meat/CoSIA.Rcheck’ * using R Under development (unstable) (2025-01-20 r87609) * using platform: aarch64-apple-darwin20 * R was compiled by Apple clang version 14.0.0 (clang-1400.0.29.202) GNU Fortran (GCC) 14.2.0 * running under: macOS Ventura 13.7.1 * using session charset: UTF-8 * using option ‘--no-vignettes’ * checking for file ‘CoSIA/DESCRIPTION’ ... OK * checking extension type ... Package * this is package ‘CoSIA’ version ‘1.7.0’ * package encoding: UTF-8 * checking package namespace information ... OK * checking package dependencies ... OK * checking if this is a source package ... OK * checking if there is a namespace ... OK * checking for hidden files and directories ... OK * checking for portable file names ... OK * checking for sufficient/correct file permissions ... OK * checking whether package ‘CoSIA’ can be installed ... OK * checking installed package size ... OK * checking package directory ... OK * checking ‘build’ directory ... OK * checking DESCRIPTION meta-information ... NOTE License stub is invalid DCF. * checking top-level files ... OK * checking for left-over files ... OK * checking index information ... OK * checking package subdirectories ... OK * checking code files for non-ASCII characters ... OK * checking R files for syntax errors ... OK * checking whether the package can be loaded ... OK * checking whether the package can be loaded with stated dependencies ... OK * checking whether the package can be unloaded cleanly ... OK * checking whether the namespace can be loaded with stated dependencies ... OK * checking whether the namespace can be unloaded cleanly ... OK * checking dependencies in R code ... OK * checking S3 generic/method consistency ... OK * checking replacement functions ... OK * checking foreign function calls ... OK * checking R code for possible problems ... OK * checking Rd files ... OK * checking Rd metadata ... OK * checking Rd cross-references ... OK * checking for missing documentation entries ... OK * checking for code/documentation mismatches ... OK * checking Rd \usage sections ... OK * checking Rd contents ... OK * checking for unstated dependencies in examples ... OK * checking files in ‘vignettes’ ... OK * checking examples ... OK Examples with CPU (user + system) or elapsed time > 5s user system elapsed plotCVGEx-CoSIAn-method 168.020 6.312 176.395 plotCVGEx 142.005 4.753 148.480 getTissues 44.749 1.313 46.657 plotSpeciesGEx-CoSIAn-method 38.337 1.118 39.865 plotDSGEx 35.256 0.735 36.380 plotSpeciesGEx 34.709 0.620 35.702 plotDSGEx-CoSIAn-method 34.674 0.624 35.824 plotTissueGEx-CoSIAn-method 34.658 0.547 35.551 plotTissueGEx 34.602 0.540 35.498 getGEx-CoSIAn-method 9.170 0.451 10.080 getGExMetrics-CoSIAn-method 8.125 0.256 8.608 getGEx 7.402 0.172 7.819 getGExMetrics 6.969 0.183 7.356 * checking for unstated dependencies in vignettes ... OK * checking package vignettes ... OK * checking running R code from vignettes ... SKIPPED * checking re-building of vignette outputs ... SKIPPED * checking PDF version of manual ... OK * DONE Status: 1 NOTE See ‘/Users/biocbuild/bbs-3.21-bioc/meat/CoSIA.Rcheck/00check.log’ for details.