Package: CoSIA Version: 1.7.0 Command: rm -rf CoSIA.buildbin-libdir && mkdir CoSIA.buildbin-libdir && /Users/biocbuild/BBS/utils/build-universal.sh CoSIA_1.7.0.tar.gz /Library/Frameworks/R.framework/Resources/bin/R CoSIA.buildbin-libdir StartedAt: 2025-02-13 00:31:31 -0500 (Thu, 13 Feb 2025) EndedAt: 2025-02-13 00:31:55 -0500 (Thu, 13 Feb 2025) EllapsedTime: 24.2 seconds RetCode: 0 Status: OK PackageFile: CoSIA_1.7.0.tgz PackageFileSize: 1.274 MiB