Package: CoSIA Version: 1.7.0 Command: /Library/Frameworks/R.framework/Resources/bin/R CMD INSTALL CoSIA StartedAt: 2025-02-09 15:26:06 -0500 (Sun, 09 Feb 2025) EndedAt: 2025-02-09 15:26:30 -0500 (Sun, 09 Feb 2025) EllapsedTime: 24.2 seconds RetCode: 0 Status: OK