Package: CoSIA Version: 1.7.0 Command: /home/biocbuild/bbs-3.21-bioc/R/bin/R CMD check --install=check:CoSIA.install-out.txt --library=/home/biocbuild/bbs-3.21-bioc/R/site-library --timings CoSIA_1.7.0.tar.gz StartedAt: 2025-02-09 21:13:25 -0500 (Sun, 09 Feb 2025) EndedAt: 2025-02-09 21:53:25 -0500 (Sun, 09 Feb 2025) EllapsedTime: 2400.1 seconds RetCode: None Status: TIMEOUT CheckDir: CoSIA.Rcheck Warnings: NA