Package: CoSIA Version: 1.7.0 Command: /home/biocbuild/bbs-3.21-bioc/R/bin/R CMD INSTALL CoSIA StartedAt: 2025-02-09 15:59:17 -0500 (Sun, 09 Feb 2025) EndedAt: 2025-02-09 15:59:34 -0500 (Sun, 09 Feb 2025) EllapsedTime: 17.3 seconds RetCode: 0 Status: OK