Package: CoSIA Version: 1.7.0 Command: chmod a+r CoSIA -R && E:\biocbuild\bbs-3.21-bioc\R\bin\R.exe CMD build --keep-empty-dirs --no-resave-data CoSIA StartedAt: 2025-02-09 18:04:10 -0500 (Sun, 09 Feb 2025) EndedAt: 2025-02-09 18:07:30 -0500 (Sun, 09 Feb 2025) EllapsedTime: 200.1 seconds RetCode: 0 Status: OK PackageFile: CoSIA_1.7.0.tar.gz PackageFileSize: 1.166 MiB