############################################################################## ############################################################################## ### ### Running command: ### ### E:\biocbuild\bbs-3.21-bioc\R\bin\R.exe CMD check --no-multiarch --install=check:CoSIA.install-out.txt --library=E:\biocbuild\bbs-3.21-bioc\R\library --no-vignettes --timings CoSIA_1.7.0.tar.gz ### ############################################################################## ############################################################################## * using log directory 'E:/biocbuild/bbs-3.21-bioc/meat/CoSIA.Rcheck' * using R Under development (unstable) (2025-01-21 r87610 ucrt) * using platform: x86_64-w64-mingw32 * R was compiled by gcc.exe (GCC) 13.3.0 GNU Fortran (GCC) 13.3.0 * running under: Windows Server 2022 x64 (build 20348) * using session charset: UTF-8 * using option '--no-vignettes' * checking for file 'CoSIA/DESCRIPTION' ... OK * checking extension type ... Package * this is package 'CoSIA' version '1.7.0' * package encoding: UTF-8 * checking package namespace information ... OK * checking package dependencies ... OK * checking if this is a source package ... OK * checking if there is a namespace ... OK * checking for hidden files and directories ... OK * checking for portable file names ... OK * checking whether package 'CoSIA' can be installed ... OK * checking installed package size ... OK * checking package directory ... OK * checking 'build' directory ... OK * checking DESCRIPTION meta-information ... NOTE License stub is invalid DCF. * checking top-level files ... OK * checking for left-over files ... OK * checking index information ... OK * checking package subdirectories ... OK * checking code files for non-ASCII characters ... OK * checking R files for syntax errors ... OK * checking whether the package can be loaded ... OK * checking whether the package can be loaded with stated dependencies ... OK * checking whether the package can be unloaded cleanly ... OK * checking whether the namespace can be loaded with stated dependencies ... OK * checking whether the namespace can be unloaded cleanly ... OK * checking dependencies in R code ... OK * checking S3 generic/method consistency ... OK * checking replacement functions ... OK * checking foreign function calls ... OK * checking R code for possible problems ... OK * checking Rd files ... OK * checking Rd metadata ... OK * checking Rd cross-references ... OK * checking for missing documentation entries ... OK * checking for code/documentation mismatches ... OK * checking Rd \usage sections ... OK * checking Rd contents ... OK * checking for unstated dependencies in examples ... OK * checking files in 'vignettes' ... OK * checking examples ... OK Examples with CPU (user + system) or elapsed time > 5s user system elapsed plotCVGEx-CoSIAn-method 383.00 35.94 613.06 plotCVGEx 334.30 35.70 647.41 getTissues 109.31 4.36 124.72 plotSpeciesGEx 100.11 3.89 103.89 plotSpeciesGEx-CoSIAn-method 95.48 3.11 101.18 plotDSGEx-CoSIAn-method 86.75 4.91 203.23 plotTissueGEx 88.89 2.36 91.32 plotDSGEx 86.53 4.59 91.35 plotTissueGEx-CoSIAn-method 88.03 2.39 90.79 getGEx-CoSIAn-method 23.57 2.28 30.11 getGExMetrics-CoSIAn-method 21.18 0.71 22.05 getGEx 18.61 0.73 19.48 getGExMetrics 18.39 0.56 19.11 getConversion-CoSIAn-method 5.36 0.30 5.86 * checking for unstated dependencies in vignettes ... OK * checking package vignettes ... OK * checking running R code from vignettes ... SKIPPED * checking re-building of vignette outputs ... SKIPPED * checking PDF version of manual ... OK * DONE Status: 1 NOTE See 'E:/biocbuild/bbs-3.21-bioc/meat/CoSIA.Rcheck/00check.log' for details.