Package: CoSIA Version: 1.7.0 Command: E:\biocbuild\bbs-3.21-bioc\R\bin\R.exe CMD check --no-multiarch --install=check:CoSIA.install-out.txt --library=E:\biocbuild\bbs-3.21-bioc\R\library --no-vignettes --timings CoSIA_1.7.0.tar.gz StartedAt: 2025-02-09 23:59:02 -0500 (Sun, 09 Feb 2025) EndedAt: 2025-02-10 00:37:23 -0500 (Mon, 10 Feb 2025) EllapsedTime: 2301.1 seconds RetCode: 0 Status: OK CheckDir: CoSIA.Rcheck Warnings: 0