Package: Cogito Version: 1.13.0 Command: rm -rf Cogito.buildbin-libdir && mkdir Cogito.buildbin-libdir && /Users/biocbuild/BBS/utils/build-universal.sh Cogito_1.13.0.tar.gz /Library/Frameworks/R.framework/Resources/bin/R Cogito.buildbin-libdir StartedAt: 2025-02-09 22:10:04 -0500 (Sun, 09 Feb 2025) EndedAt: 2025-02-09 22:10:21 -0500 (Sun, 09 Feb 2025) EllapsedTime: 17.3 seconds RetCode: 0 Status: OK PackageFile: Cogito_1.13.0.tgz PackageFileSize: 1.22 MiB