Package: Cogito Version: 1.13.0 Command: /Library/Frameworks/R.framework/Resources/bin/R CMD build --keep-empty-dirs --no-resave-data Cogito StartedAt: 2025-02-09 15:56:58 -0500 (Sun, 09 Feb 2025) EndedAt: 2025-02-09 15:57:24 -0500 (Sun, 09 Feb 2025) EllapsedTime: 26.3 seconds RetCode: 0 Status: OK PackageFile: Cogito_1.13.0.tar.gz PackageFileSize: 869 KiB