Package: Cogito Version: 1.13.0 Command: /Library/Frameworks/R.framework/Resources/bin/R CMD INSTALL Cogito StartedAt: 2025-02-04 15:16:40 -0500 (Tue, 04 Feb 2025) EndedAt: 2025-02-04 15:16:56 -0500 (Tue, 04 Feb 2025) EllapsedTime: 15.4 seconds RetCode: 0 Status: OK