Package: Cogito Version: 1.13.0 Command: /home/biocbuild/R/R/bin/R CMD build --keep-empty-dirs --no-resave-data Cogito StartedAt: 2025-01-28 22:01:45 -0000 (Tue, 28 Jan 2025) EndedAt: 2025-01-28 22:03:20 -0000 (Tue, 28 Jan 2025) EllapsedTime: 95.0 seconds RetCode: 0 Status: OK PackageFile: Cogito_1.13.0.tar.gz PackageFileSize: 892.8 KiB