Package: Cogito Version: 1.13.0 Command: /home/biocbuild/R/R/bin/R CMD INSTALL Cogito StartedAt: 2025-01-29 20:08:55 -0000 (Wed, 29 Jan 2025) EndedAt: 2025-01-29 20:09:48 -0000 (Wed, 29 Jan 2025) EllapsedTime: 53.2 seconds RetCode: 0 Status: OK