Package: Cogito Version: 1.13.0 Command: /Library/Frameworks/R.framework/Resources/bin/R CMD build --keep-empty-dirs --no-resave-data Cogito StartedAt: 2025-02-04 16:17:36 -0500 (Tue, 04 Feb 2025) EndedAt: 2025-02-04 16:18:55 -0500 (Tue, 04 Feb 2025) EllapsedTime: 79.0 seconds RetCode: 0 Status: OK PackageFile: Cogito_1.13.0.tar.gz PackageFileSize: 868.9 KiB