Package: Cogito Version: 1.13.0 Command: /home/biocbuild/bbs-3.21-bioc/R/bin/R CMD build --keep-empty-dirs --no-resave-data Cogito StartedAt: 2025-02-09 16:43:54 -0500 (Sun, 09 Feb 2025) EndedAt: 2025-02-09 16:45:03 -0500 (Sun, 09 Feb 2025) EllapsedTime: 69.1 seconds RetCode: 0 Status: OK PackageFile: Cogito_1.13.0.tar.gz PackageFileSize: 869 KiB