Package: Cogito Version: 1.13.0 Command: /home/biocbuild/bbs-3.21-bioc/R/bin/R CMD check --install=check:Cogito.install-out.txt --library=/home/biocbuild/bbs-3.21-bioc/R/site-library --timings Cogito_1.13.0.tar.gz StartedAt: 2025-02-09 21:06:01 -0500 (Sun, 09 Feb 2025) EndedAt: 2025-02-09 21:11:08 -0500 (Sun, 09 Feb 2025) EllapsedTime: 306.4 seconds RetCode: 0 Status: OK CheckDir: Cogito.Rcheck Warnings: 0