Package: Cogito Version: 1.13.0 Command: rm -rf Cogito.buildbin-libdir && mkdir Cogito.buildbin-libdir && E:\biocbuild\bbs-3.21-bioc\R\bin\R.exe CMD INSTALL --build --library=Cogito.buildbin-libdir Cogito_1.13.0.tar.gz StartedAt: 2025-02-10 07:30:15 -0500 (Mon, 10 Feb 2025) EndedAt: 2025-02-10 07:30:57 -0500 (Mon, 10 Feb 2025) EllapsedTime: 42.7 seconds RetCode: 0 Status: OK PackageFile: Cogito_1.13.0.zip PackageFileSize: 1.223 MiB