Package: Cogito Version: 1.13.0 Command: chmod a+r Cogito -R && E:\biocbuild\bbs-3.21-bioc\R\bin\R.exe CMD build --keep-empty-dirs --no-resave-data Cogito StartedAt: 2025-02-09 17:58:40 -0500 (Sun, 09 Feb 2025) EndedAt: 2025-02-09 18:00:00 -0500 (Sun, 09 Feb 2025) EllapsedTime: 79.6 seconds RetCode: 0 Status: OK PackageFile: Cogito_1.13.0.tar.gz PackageFileSize: 869 KiB