Package: Cogito Version: 1.13.0 Command: E:\biocbuild\bbs-3.21-bioc\R\bin\R.exe CMD check --no-multiarch --install=check:Cogito.install-out.txt --library=E:\biocbuild\bbs-3.21-bioc\R\library --no-vignettes --timings Cogito_1.13.0.tar.gz StartedAt: 2025-02-12 23:59:25 -0500 (Wed, 12 Feb 2025) EndedAt: 2025-02-13 00:04:53 -0500 (Thu, 13 Feb 2025) EllapsedTime: 327.7 seconds RetCode: 0 Status: OK CheckDir: Cogito.Rcheck Warnings: 0