Package: Cogito Version: 1.13.0 Command: E:\biocbuild\bbs-3.21-bioc\R\bin\R.exe CMD INSTALL Cogito StartedAt: 2025-02-09 16:31:27 -0500 (Sun, 09 Feb 2025) EndedAt: 2025-02-09 16:32:08 -0500 (Sun, 09 Feb 2025) EllapsedTime: 41.5 seconds RetCode: 0 Status: OK