Package: ComPrAn Version: 1.15.0 Command: /home/biocbuild/R/R/bin/R CMD check --install=check:ComPrAn.install-out.txt --library=/home/biocbuild/R/R/site-library --no-vignettes --timings ComPrAn_1.15.0.tar.gz StartedAt: 2025-01-28 09:25:40 -0000 (Tue, 28 Jan 2025) EndedAt: 2025-01-28 09:26:47 -0000 (Tue, 28 Jan 2025) EllapsedTime: 67.1 seconds RetCode: 0 Status: OK CheckDir: ComPrAn.Rcheck Warnings: 0