Package: ComPrAn Version: 1.15.0 Command: /Library/Frameworks/R.framework/Resources/bin/R CMD build --keep-empty-dirs --no-resave-data ComPrAn StartedAt: 2025-02-09 16:21:42 -0500 (Sun, 09 Feb 2025) EndedAt: 2025-02-09 16:22:10 -0500 (Sun, 09 Feb 2025) EllapsedTime: 27.4 seconds RetCode: 0 Status: OK PackageFile: ComPrAn_1.15.0.tar.gz PackageFileSize: 3.351 MiB