Package: ComPrAn Version: 1.15.0 Command: /Library/Frameworks/R.framework/Resources/bin/R CMD check --install=check:ComPrAn.install-out.txt --library=/Library/Frameworks/R.framework/Resources/library --no-vignettes --timings ComPrAn_1.15.0.tar.gz StartedAt: 2025-02-12 19:43:01 -0500 (Wed, 12 Feb 2025) EndedAt: 2025-02-12 19:44:10 -0500 (Wed, 12 Feb 2025) EllapsedTime: 68.7 seconds RetCode: 0 Status: OK CheckDir: ComPrAn.Rcheck Warnings: 0