Package: ComPrAn Version: 1.15.0 Command: /home/biocbuild/bbs-3.21-bioc/R/bin/R CMD build --keep-empty-dirs --no-resave-data ComPrAn StartedAt: 2025-02-09 16:45:36 -0500 (Sun, 09 Feb 2025) EndedAt: 2025-02-09 16:45:56 -0500 (Sun, 09 Feb 2025) EllapsedTime: 20.0 seconds RetCode: 0 Status: OK PackageFile: ComPrAn_1.15.0.tar.gz PackageFileSize: 3.278 MiB