Package: CompoundDb Version: 1.11.2 Command: /Library/Frameworks/R.framework/Resources/bin/R CMD check --install=check:CompoundDb.install-out.txt --library=/Library/Frameworks/R.framework/Resources/library --no-vignettes --timings CompoundDb_1.11.2.tar.gz StartedAt: 2025-02-09 19:53:56 -0500 (Sun, 09 Feb 2025) EndedAt: 2025-02-09 19:56:54 -0500 (Sun, 09 Feb 2025) EllapsedTime: 177.8 seconds RetCode: 0 Status: OK CheckDir: CompoundDb.Rcheck Warnings: 0