Package: CompoundDb Version: 1.11.2 Command: /home/biocbuild/bbs-3.21-bioc/R/bin/R CMD build --keep-empty-dirs --no-resave-data CompoundDb StartedAt: 2025-02-09 16:45:22 -0500 (Sun, 09 Feb 2025) EndedAt: 2025-02-09 16:45:55 -0500 (Sun, 09 Feb 2025) EllapsedTime: 33.0 seconds RetCode: 0 Status: OK PackageFile: CompoundDb_1.11.2.tar.gz PackageFileSize: 1.303 MiB