Package: CoreGx Version: 2.11.0 Command: rm -rf CoreGx.buildbin-libdir && mkdir CoreGx.buildbin-libdir && /Users/biocbuild/BBS/utils/build-universal.sh CoreGx_2.11.0.tar.gz /Library/Frameworks/R.framework/Resources/bin/R CoreGx.buildbin-libdir StartedAt: 2025-02-09 22:10:30 -0500 (Sun, 09 Feb 2025) EndedAt: 2025-02-09 22:10:47 -0500 (Sun, 09 Feb 2025) EllapsedTime: 16.4 seconds RetCode: 0 Status: OK PackageFile: CoreGx_2.11.0.tgz PackageFileSize: 2.441 MiB