Package: CoreGx Version: 2.11.0 Command: /Library/Frameworks/R.framework/Resources/bin/R CMD build --keep-empty-dirs --no-resave-data CoreGx StartedAt: 2025-02-09 15:58:57 -0500 (Sun, 09 Feb 2025) EndedAt: 2025-02-09 15:59:20 -0500 (Sun, 09 Feb 2025) EllapsedTime: 23.3 seconds RetCode: 0 Status: OK PackageFile: CoreGx_2.11.0.tar.gz PackageFileSize: 1.364 MiB