Package: CoreGx Version: 2.11.0 Command: /Library/Frameworks/R.framework/Resources/bin/R CMD check --install=check:CoreGx.install-out.txt --library=/Library/Frameworks/R.framework/Resources/library --no-vignettes --timings CoreGx_2.11.0.tar.gz StartedAt: 2025-02-09 18:40:31 -0500 (Sun, 09 Feb 2025) EndedAt: 2025-02-09 18:42:42 -0500 (Sun, 09 Feb 2025) EllapsedTime: 130.6 seconds RetCode: 0 Status: OK CheckDir: CoreGx.Rcheck Warnings: 0