Package: CoreGx Version: 2.11.0 Command: /home/biocbuild/R/R/bin/R CMD build --keep-empty-dirs --no-resave-data CoreGx StartedAt: 2025-01-28 22:06:41 -0000 (Tue, 28 Jan 2025) EndedAt: 2025-01-28 22:07:59 -0000 (Tue, 28 Jan 2025) EllapsedTime: 78.0 seconds RetCode: 0 Status: OK PackageFile: CoreGx_2.11.0.tar.gz PackageFileSize: 1.387 MiB