Package: CoreGx Version: 2.11.0 Command: /home/biocbuild/bbs-3.21-bioc/R/bin/R CMD build --keep-empty-dirs --no-resave-data CoreGx StartedAt: 2025-02-09 16:46:51 -0500 (Sun, 09 Feb 2025) EndedAt: 2025-02-09 16:47:45 -0500 (Sun, 09 Feb 2025) EllapsedTime: 54.0 seconds RetCode: 0 Status: OK PackageFile: CoreGx_2.11.0.tar.gz PackageFileSize: 1.364 MiB