Package: CoreGx Version: 2.11.0 Command: chmod a+r CoreGx -R && E:\biocbuild\bbs-3.21-bioc\R\bin\R.exe CMD build --keep-empty-dirs --no-resave-data CoreGx StartedAt: 2025-02-04 18:02:03 -0500 (Tue, 04 Feb 2025) EndedAt: 2025-02-04 18:03:51 -0500 (Tue, 04 Feb 2025) EllapsedTime: 108.4 seconds RetCode: 0 Status: OK PackageFile: CoreGx_2.11.0.tar.gz PackageFileSize: 1.364 MiB