Package: CoreGx Version: 2.11.0 Command: E:\biocbuild\bbs-3.21-bioc\R\bin\R.exe CMD check --no-multiarch --install=check:CoreGx.install-out.txt --library=E:\biocbuild\bbs-3.21-bioc\R\library --no-vignettes --timings CoreGx_2.11.0.tar.gz StartedAt: 2025-02-09 23:57:41 -0500 (Sun, 09 Feb 2025) EndedAt: 2025-02-10 00:06:16 -0500 (Mon, 10 Feb 2025) EllapsedTime: 515.2 seconds RetCode: 0 Status: OK CheckDir: CoreGx.Rcheck Warnings: 0