Package: CoverageView Version: 1.45.0 Command: /Library/Frameworks/R.framework/Resources/bin/R CMD build --keep-empty-dirs --no-resave-data CoverageView StartedAt: 2025-02-12 16:00:10 -0500 (Wed, 12 Feb 2025) EndedAt: 2025-02-12 16:00:34 -0500 (Wed, 12 Feb 2025) EllapsedTime: 24.2 seconds RetCode: 0 Status: OK PackageFile: CoverageView_1.45.0.tar.gz PackageFileSize: 2.554 MiB