Package: CoverageView Version: 1.45.0 Command: /Library/Frameworks/R.framework/Resources/bin/R CMD check --install=check:CoverageView.install-out.txt --library=/Library/Frameworks/R.framework/Resources/library --no-vignettes --timings CoverageView_1.45.0.tar.gz StartedAt: 2025-02-12 18:43:04 -0500 (Wed, 12 Feb 2025) EndedAt: 2025-02-12 18:44:31 -0500 (Wed, 12 Feb 2025) EllapsedTime: 88.0 seconds RetCode: 0 Status: WARNINGS CheckDir: CoverageView.Rcheck Warnings: 1