Package: CoverageView Version: 1.45.0 Command: /Library/Frameworks/R.framework/Resources/bin/R CMD INSTALL CoverageView StartedAt: 2025-02-12 15:18:21 -0500 (Wed, 12 Feb 2025) EndedAt: 2025-02-12 15:18:33 -0500 (Wed, 12 Feb 2025) EllapsedTime: 12.2 seconds RetCode: 0 Status: OK