Package: CoverageView Version: 1.45.0 Command: /home/biocbuild/R/R/bin/R CMD build --keep-empty-dirs --no-resave-data CoverageView StartedAt: 2025-01-28 22:08:54 -0000 (Tue, 28 Jan 2025) EndedAt: 2025-01-28 22:10:01 -0000 (Tue, 28 Jan 2025) EllapsedTime: 67.0 seconds RetCode: 0 Status: OK PackageFile: CoverageView_1.45.0.tar.gz PackageFileSize: 2.568 MiB