Package: CoverageView Version: 1.45.0 Command: /home/biocbuild/R/R/bin/R CMD INSTALL CoverageView StartedAt: 2025-01-29 19:58:24 -0000 (Wed, 29 Jan 2025) EndedAt: 2025-01-29 19:59:07 -0000 (Wed, 29 Jan 2025) EllapsedTime: 42.9 seconds RetCode: 0 Status: OK