Package: CoverageView Version: 1.45.0 Command: /Library/Frameworks/R.framework/Resources/bin/R CMD INSTALL CoverageView StartedAt: 2025-02-09 15:28:11 -0500 (Sun, 09 Feb 2025) EndedAt: 2025-02-09 15:28:54 -0500 (Sun, 09 Feb 2025) EllapsedTime: 43.1 seconds RetCode: 0 Status: OK