Package: CoverageView Version: 1.45.0 Command: /home/biocbuild/bbs-3.21-bioc/R/bin/R CMD check --install=check:CoverageView.install-out.txt --library=/home/biocbuild/bbs-3.21-bioc/R/site-library --timings CoverageView_1.45.0.tar.gz StartedAt: 2025-02-12 21:12:22 -0500 (Wed, 12 Feb 2025) EndedAt: 2025-02-12 21:16:10 -0500 (Wed, 12 Feb 2025) EllapsedTime: 228.3 seconds RetCode: 0 Status: WARNINGS CheckDir: CoverageView.Rcheck Warnings: 1