Package: CrispRVariants Version: 1.35.0 Command: rm -rf CrispRVariants.buildbin-libdir && mkdir CrispRVariants.buildbin-libdir && /Users/biocbuild/BBS/utils/build-universal.sh CrispRVariants_1.35.0.tar.gz /Library/Frameworks/R.framework/Resources/bin/R CrispRVariants.buildbin-libdir StartedAt: 2025-02-09 22:10:51 -0500 (Sun, 09 Feb 2025) EndedAt: 2025-02-09 22:11:10 -0500 (Sun, 09 Feb 2025) EllapsedTime: 19.3 seconds RetCode: 0 Status: OK PackageFile: CrispRVariants_1.35.0.tgz PackageFileSize: 3.918 MiB