Package: CrispRVariants Version: 1.35.0 Command: /home/biocbuild/R/R/bin/R CMD INSTALL CrispRVariants StartedAt: 2025-01-29 19:48:35 -0000 (Wed, 29 Jan 2025) EndedAt: 2025-01-29 19:49:36 -0000 (Wed, 29 Jan 2025) EllapsedTime: 60.6 seconds RetCode: 0 Status: OK