Package: CrispRVariants Version: 1.35.0 Command: rm -rf CrispRVariants.buildbin-libdir && mkdir CrispRVariants.buildbin-libdir && /Users/biocbuild/BBS/utils/build-universal.sh CrispRVariants_1.35.0.tar.gz /Library/Frameworks/R.framework/Resources/bin/R CrispRVariants.buildbin-libdir StartedAt: 2025-02-13 00:31:56 -0500 (Thu, 13 Feb 2025) EndedAt: 2025-02-13 00:32:58 -0500 (Thu, 13 Feb 2025) EllapsedTime: 62.1 seconds RetCode: 0 Status: OK PackageFile: CrispRVariants_1.35.0.tgz PackageFileSize: 3.923 MiB