Package: CrispRVariants Version: 1.35.0 Command: /home/biocbuild/bbs-3.21-bioc/R/bin/R CMD build --keep-empty-dirs --no-resave-data CrispRVariants StartedAt: 2025-02-09 16:49:38 -0500 (Sun, 09 Feb 2025) EndedAt: 2025-02-09 16:51:44 -0500 (Sun, 09 Feb 2025) EllapsedTime: 126.1 seconds RetCode: 0 Status: OK PackageFile: CrispRVariants_1.35.0.tar.gz PackageFileSize: 3.564 MiB