Package: CrispRVariants Version: 1.35.0 Command: rm -rf CrispRVariants.buildbin-libdir && mkdir CrispRVariants.buildbin-libdir && E:\biocbuild\bbs-3.21-bioc\R\bin\R.exe CMD INSTALL --build --library=CrispRVariants.buildbin-libdir CrispRVariants_1.35.0.tar.gz StartedAt: 2025-02-10 07:32:24 -0500 (Mon, 10 Feb 2025) EndedAt: 2025-02-10 07:34:49 -0500 (Mon, 10 Feb 2025) EllapsedTime: 145.1 seconds RetCode: 0 Status: OK PackageFile: CrispRVariants_1.35.0.zip PackageFileSize: 2.444 MiB