Package: CrispRVariants Version: 1.35.0 Command: chmod a+r CrispRVariants -R && E:\biocbuild\bbs-3.21-bioc\R\bin\R.exe CMD build --keep-empty-dirs --no-resave-data CrispRVariants StartedAt: 2025-02-09 18:06:20 -0500 (Sun, 09 Feb 2025) EndedAt: 2025-02-09 18:09:39 -0500 (Sun, 09 Feb 2025) EllapsedTime: 199.4 seconds RetCode: 0 Status: OK PackageFile: CrispRVariants_1.35.0.tar.gz PackageFileSize: 2.009 MiB